BEGIN:VCALENDAR
VERSION:2.0
PRODID:-//Chamber Winds Louisville - ECPv6.15.20//NONSGML v1.0//EN
CALSCALE:GREGORIAN
METHOD:PUBLISH
X-WR-CALNAME:Chamber Winds Louisville
X-ORIGINAL-URL:https://chamberwindslouisville.org
X-WR-CALDESC:Events for Chamber Winds Louisville
REFRESH-INTERVAL;VALUE=DURATION:PT1H
X-Robots-Tag:noindex
X-PUBLISHED-TTL:PT1H
BEGIN:VTIMEZONE
TZID:America/Kentucky/Louisville
BEGIN:DAYLIGHT
TZOFFSETFROM:-0500
TZOFFSETTO:-0400
TZNAME:EDT
DTSTART:20200308T070000
END:DAYLIGHT
BEGIN:STANDARD
TZOFFSETFROM:-0400
TZOFFSETTO:-0500
TZNAME:EST
DTSTART:20201101T060000
END:STANDARD
BEGIN:DAYLIGHT
TZOFFSETFROM:-0500
TZOFFSETTO:-0400
TZNAME:EDT
DTSTART:20210314T070000
END:DAYLIGHT
BEGIN:STANDARD
TZOFFSETFROM:-0400
TZOFFSETTO:-0500
TZNAME:EST
DTSTART:20211107T060000
END:STANDARD
BEGIN:DAYLIGHT
TZOFFSETFROM:-0500
TZOFFSETTO:-0400
TZNAME:EDT
DTSTART:20220313T070000
END:DAYLIGHT
BEGIN:STANDARD
TZOFFSETFROM:-0400
TZOFFSETTO:-0500
TZNAME:EST
DTSTART:20221106T060000
END:STANDARD
BEGIN:DAYLIGHT
TZOFFSETFROM:-0500
TZOFFSETTO:-0400
TZNAME:EDT
DTSTART:20230312T070000
END:DAYLIGHT
BEGIN:STANDARD
TZOFFSETFROM:-0400
TZOFFSETTO:-0500
TZNAME:EST
DTSTART:20231105T060000
END:STANDARD
BEGIN:DAYLIGHT
TZOFFSETFROM:-0500
TZOFFSETTO:-0400
TZNAME:EDT
DTSTART:20240310T070000
END:DAYLIGHT
BEGIN:STANDARD
TZOFFSETFROM:-0400
TZOFFSETTO:-0500
TZNAME:EST
DTSTART:20241103T060000
END:STANDARD
BEGIN:DAYLIGHT
TZOFFSETFROM:-0500
TZOFFSETTO:-0400
TZNAME:EDT
DTSTART:20250309T070000
END:DAYLIGHT
BEGIN:STANDARD
TZOFFSETFROM:-0400
TZOFFSETTO:-0500
TZNAME:EST
DTSTART:20251102T060000
END:STANDARD
BEGIN:DAYLIGHT
TZOFFSETFROM:-0500
TZOFFSETTO:-0400
TZNAME:EDT
DTSTART:20260308T070000
END:DAYLIGHT
BEGIN:STANDARD
TZOFFSETFROM:-0400
TZOFFSETTO:-0500
TZNAME:EST
DTSTART:20261101T060000
END:STANDARD
END:VTIMEZONE
BEGIN:VEVENT
DTSTART;TZID=America/Kentucky/Louisville:20250925T193000
DTEND;TZID=America/Kentucky/Louisville:20250925T210000
DTSTAMP:20260422T183726
CREATED:20250826T141029Z
LAST-MODIFIED:20250826T151152Z
UID:6303-1758828600-1758834000@chamberwindslouisville.org
SUMMARY:Concert with UofL Wind Symphony
DESCRIPTION:The Louisville Concert Band and Chamber Winds Louisville presents a September program filled with color and character. Philip Sparke’s Sunrise at Angel’s Gate captures the spacious grandeur of a desert dawn\, while Percy Grainger’s spirited Molly on the Shore and Warren Barker’s texturally rich setting of Danny Boy bring folk traditions to life. The concert also features a special performance by our clarinet choir\, presenting Ralph Vaughan Williams’ beloved Rhosymedre as we celebrate the memory of one of our revered founding members\, clarinetist and conductor Brad Rogers. \n\n\n\nThe exuberant and brilliant Thunder and Lightning Polka by Johann Strauss II will provide a lively and joyous finale. If you like the crash cymbal solo at the end we may even add an encore!
URL:https://chamberwindslouisville.org/event/concert-with-uofl-wind-symphony/
LOCATION:Margaret Comstock Concert Hall\, 105 W Brandeis Ave\, Louisville\, Kentucky\, 40292\, United States
END:VEVENT
BEGIN:VEVENT
DTSTART;TZID=America/Kentucky/Louisville:20250604T200000
DTEND;TZID=America/Kentucky/Louisville:20250604T210000
DTSTAMP:20260422T183726
CREATED:20250504T122939Z
LAST-MODIFIED:20250602T194749Z
UID:6293-1749067200-1749070800@chamberwindslouisville.org
SUMMARY:Wind Band Institute
DESCRIPTION:Join the Louisville Concert Band during Wind Band Institute week for a program full of drama\, wit\, and heart. From the sweeping intensity of Khachaturian’s “Three Dance Episodes from Spartacus” to the optimistic and jaunty strains of Sousa’s “Homeward Bound” and the rich textures of Clifton Williams’ “Solemn Fugue”\, the concert showcases the expressive power of the wind band. Chamber works by Donizetti and Shulamit Ran add contrast—Ran’s “Flight of the Brave Chicken: Ode to Nina” offers a playful\, unexpected twist\, while Donizetti’s “Sinfonia” brings a touch of classical charm. It’s a bold and colorful musical experience you won’t want to miss!
URL:https://chamberwindslouisville.org/event/wbi-2025/
LOCATION:Margaret Comstock Concert Hall\, 105 W Brandeis Ave\, Louisville\, Kentucky\, 40292\, United States
ATTACH;FMTTYPE=image/jpeg:https://chamberwindslouisville.org/wp-content/uploads/2024/04/2019-09-08-5.jpg
END:VEVENT
BEGIN:VEVENT
DTSTART;TZID=America/Kentucky/Louisville:20250223T150000
DTEND;TZID=America/Kentucky/Louisville:20250223T160000
DTSTAMP:20260422T183726
CREATED:20250120T211016Z
LAST-MODIFIED:20250130T231215Z
UID:6278-1740322800-1740326400@chamberwindslouisville.org
SUMMARY:February Concert
DESCRIPTION:Join us for an afternoon of music\, with the University of Louisville Wind Symphony opening the program and the Louisville Concert Band following. Our program will feature David Holsinger’s *To Tame the Perilous Skies*\, a tour de force that captures the drama and intensity of aerial combat with breathtaking energy and emotion. We’re also thrilled to showcase Eric Maxey\, euphonium player and Youth Performing Arts School senior\, as the winner of the Louisville Youth Wind Symphony concerto competition and soloist for this performance.
URL:https://chamberwindslouisville.org/event/2025-02/
LOCATION:Margaret Comstock Concert Hall\, 105 W Brandeis Ave\, Louisville\, Kentucky\, 40292\, United States
ATTACH;FMTTYPE=image/jpeg:https://chamberwindslouisville.org/wp-content/uploads/2019/08/B66A6852.jpg
END:VEVENT
BEGIN:VEVENT
DTSTART;TZID=America/Kentucky/Louisville:20241202T193000
DTEND;TZID=America/Kentucky/Louisville:20241202T210000
DTSTAMP:20260422T183726
CREATED:20241014T151852Z
LAST-MODIFIED:20241130T115421Z
UID:6248-1733167800-1733173200@chamberwindslouisville.org
SUMMARY:December Concert
DESCRIPTION:On Monday\, December 2\, 2024\, at 7:30pm\, the Louisville Concert Band will fill Comstock Concert Hall with an evening of rich musical landscapes and timeless compositions. From the lively charm of Jacques Offenbach’s La Belle Hélène to the pastoral beauty of Percy Grainger’s Ye Banks and Braes o’ Bonnie Doon and Harvest Hymn\, this concert promises a journey through grace and grandeur. John Philip Sousa’s Ancient and Honorable Artillery Company will bring a stirring march to round out the program.
URL:https://chamberwindslouisville.org/event/december-concert-2/
LOCATION:Margaret Comstock Concert Hall\, 105 W Brandeis Ave\, Louisville\, Kentucky\, 40292\, United States
END:VEVENT
BEGIN:VEVENT
DTSTART;TZID=America/Kentucky/Louisville:20240926T193000
DTEND;TZID=America/Kentucky/Louisville:20240926T213000
DTSTAMP:20260422T183726
CREATED:20240820T200310Z
LAST-MODIFIED:20240825T203403Z
UID:6187-1727379000-1727386200@chamberwindslouisville.org
SUMMARY:Joint Concert with UofL Symphonic Band
DESCRIPTION:Join the Louisville Concert Band for an evening of exquisite musical variety. The concert will open with our chamber group performing “Allegro guisto” from Franz Schubert’s “The Overture in Italian Style.” The performance will continue with Ralph Hultgren’s energetic “Whirr\, Whirr\, Whirr!” alongside the reflective “The Lowlands of Scotland” by Ralph Vaughan Williams. Frank Ticheli’s “Blue Shades” brings a touch of jazz\, and Cecil Macklin’s “Très Moutarde” adds a playful twist.
URL:https://chamberwindslouisville.org/event/joint-concert-with-uofl-symphonic-band/
LOCATION:Margaret Comstock Concert Hall\, 105 W Brandeis Ave\, Louisville\, Kentucky\, 40292\, United States
END:VEVENT
BEGIN:VEVENT
DTSTART;TZID=America/Kentucky/Louisville:20240605T190000
DTEND;TZID=America/Kentucky/Louisville:20240605T200000
DTSTAMP:20260422T183726
CREATED:20240603T191354Z
LAST-MODIFIED:20240603T191717Z
UID:6163-1717614000-1717617600@chamberwindslouisville.org
SUMMARY:Wind Band Institute
DESCRIPTION:Please join us as we play a feature concert for the participants of University of Louisville’s High School Wind Band Institute. More details to come.
URL:https://chamberwindslouisville.org/event/wind-band-institute-2/
LOCATION:duPont Manual High School Auditorium\, 120 W Lee St\, Louisville\, KY\, 40208\, United States
ATTACH;FMTTYPE=image/png:https://chamberwindslouisville.org/wp-content/uploads/2022/09/20220929_CWL_0002.png
END:VEVENT
BEGIN:VEVENT
DTSTART;TZID=America/Kentucky/Louisville:20230226T193000
DTEND;TZID=America/Kentucky/Louisville:20230226T210000
DTSTAMP:20260422T183726
CREATED:20221210T130105Z
LAST-MODIFIED:20221210T130106Z
UID:558-1677439800-1677445200@chamberwindslouisville.org
SUMMARY:Joint Concert with UofL Wind Symphony
DESCRIPTION:
URL:https://chamberwindslouisville.org/event/joint-concert-with-uofl-wind-symphony/
LOCATION:Margaret Comstock Concert Hall\, 105 W Brandeis Ave\, Louisville\, Kentucky\, 40292\, United States
END:VEVENT
BEGIN:VEVENT
DTSTART;TZID=America/Kentucky/Louisville:20230210T150500
DTEND;TZID=America/Kentucky/Louisville:20230210T154500
DTSTAMP:20260422T183726
CREATED:20221210T130006Z
LAST-MODIFIED:20221210T130006Z
UID:554-1676041500-1676043900@chamberwindslouisville.org
SUMMARY:KMEA Performance
DESCRIPTION:
URL:https://chamberwindslouisville.org/event/kmea-performance/
LOCATION:Kentucky International Convention Center\, 221 S 4th St\, Louisville\, Kentucky\, 40202\, United States
END:VEVENT
BEGIN:VEVENT
DTSTART;TZID=America/Kentucky/Louisville:20230201T190000
DTEND;TZID=America/Kentucky/Louisville:20230201T200000
DTSTAMP:20260422T183726
CREATED:20221210T142817Z
LAST-MODIFIED:20221210T142817Z
UID:560-1675278000-1675281600@chamberwindslouisville.org
SUMMARY:KMEA Preview Concert
DESCRIPTION:
URL:https://chamberwindslouisville.org/event/kmea-preview-concert/
LOCATION:Margaret Comstock Concert Hall\, 105 W Brandeis Ave\, Louisville\, Kentucky\, 40292\, United States
END:VEVENT
BEGIN:VEVENT
DTSTART;TZID=America/Kentucky/Louisville:20221204T193000
DTEND;TZID=America/Kentucky/Louisville:20221204T203000
DTSTAMP:20260422T183726
CREATED:20221210T124346Z
LAST-MODIFIED:20221210T124348Z
UID:552-1670182200-1670185800@chamberwindslouisville.org
SUMMARY:Fall Concert
DESCRIPTION:
URL:https://chamberwindslouisville.org/event/fall-concert/
LOCATION:Margaret Comstock Concert Hall\, 105 W Brandeis Ave\, Louisville\, Kentucky\, 40292\, United States
END:VEVENT
BEGIN:VEVENT
DTSTART;TZID=America/Kentucky/Louisville:20220929T200000
DTEND;TZID=America/Kentucky/Louisville:20220929T213000
DTSTAMP:20260422T183726
CREATED:20220927T125936Z
LAST-MODIFIED:20220927T130107Z
UID:518-1664481600-1664487000@chamberwindslouisville.org
SUMMARY:Symphonic Band and Chamber Winds Louisville
DESCRIPTION:The University of Louisville Symphonic Band & Chamber Winds Louisville is honored to host an Eastern Kentucky / Fletcher County Relief Concert. Admission is free\, but audience members are invited to bring canned and dry food donations to drop off in the lobby. \n\n\n\nThe concert will feature The Trestle Tree\, a new work for concert band composed by two musicians in from Eastern Kentucky. One of the composers\, Dr. Donald Sorah\, will serve as the guest conductor. After the devastating floods this summer\, Dr. Sorah donated all sales of the work to Eastern Kentucky Flood Relief efforts. The UofL Symphonic Band was proud to contribute to the effort\, which has now raised over $5\,000 in relief funds. \n\n\n\nYou can read more about The Trestle Tree and the flood relief efforts below in the letter from Dr. Sorah. \n\n\n\n\n\n\n\n\n\n\n\n\n\n\n\n\n\n\n\n\n\n\n\n\n\n\n\n\nHello Fellow Musician and/or Supporter of the Arts – \n\n\n\nYou have likely heard of the recent flooding that ravaged much of southeastern Kentucky. Many cities and communities have been nearly completely destroyed. One such city is Whitesburg\, just a few miles across the border from Wise County\, Virginia where I live. Images such as the following are unfathomable\, but many of my friends\, fellow musicians\, and educators are dealing with this disaster just as they prepare for the new school year to begin in a few weeks. \n\n\n\n\n\n\n\n\n\n\n\n\n\n\n\n\n\nI have already donated funds personally but sought a way to support these people and the clean-up efforts in a way that I personally cannot. I have turned to my music. \n\n\n\nThis past spring\, my friend Roy Crawford from Whitesburg shared a musical sketch of two themes he had composed and sought development of those themes into a work for concert band. He sought to dedicate this work in tribute to an interesting artifact found near a walking trail in his hometown. It seems that a small pine tree had planted roots and was growing out of an abandoned train trestle. \n\n\n\nAlthough this tree might have been passed over by many\, Roy took note and found this tree to be a symbol of perseverance through seasons of adversity. A tree such s this should not be able to flourish growing out of a railroad tie\, yet it stood strong and proud. Others in the community also took note of the tree\, decorating it for Christmas and for St. Patrick’s Day. It was even the subject of a painting that is now displayed in the City Hall. \n\n\n\n\n\n\n\n\n\n\n\n\n\n\n\n\n\nThese themes and the story of the Trestle Tree inspired me to compose The Trestle Tree which was premiered by The KYVA Winds\, Dr. Jason Griffith director (also Director of Bands at Letcher County Central High School)\, with the composer conducting the work just a few yards away from the Trestle Tree itself. You can listen to a full recording of The Trestle Tree by Winds of the Mountain Empire below. \n\n\n\n\nhttps://soundcloud.com/user-147003134/trestle-tree? utm_source=clipboard&utm_medium=text&utm_campaign=social_sharing\n\n\n\n\n\n\n\n\n\n\n\n\n\n\nWhen the floodwaters rushed through the city of Whitesburg\, the majority of the city was ravaged including the trestle that once held the Trestle Tree. \n\n\n\nRoy and I would like to donate 100% of the profits from the sale of The Trestle Tree between now and September 1 to the cleanup and restoration efforts of the people of Letcher County\, Kentucky. We hope that the symbol of the Trestle Tree will continue to represent resilience and perseverance over adversity as they work to rebuild their communities after the flood. \n\n\n\n\n\n\n\nHow can you help? How can you purchase this piece (PDF copies of the score and parts) and support the people of Letcher County? \n\n\n\nPlace your order by filling out this Google Form.Make a payment/donation of $50.00 or more to Donald Sorah with “Trestle Tree” in the notes via Venmo (@DonaldSorah) – if you should need to verify my phone number in the Venmo app\, the last four digits of my number are 2426. You can also send a check made out to Donald Sorah to:Donald W. SorahWinds of the Mountain Empire314 Oakwood Ave SEWise\, VA 24293Upon receipt of payment and within 24 hours\, a link will be emailed to you where you can download your personalized score and parts.Although not an obligation\, if at all possible\, it would be great to receive copies of any programs on which this piece is performed.
URL:https://chamberwindslouisville.org/event/symphonic-band-and-chamber-winds-louisville/
LOCATION:Margaret Comstock Concert Hall\, 105 W Brandeis Ave\, Louisville\, Kentucky\, 40292\, United States
END:VEVENT
BEGIN:VEVENT
DTSTART;TZID=America/Kentucky/Louisville:20220608T200000
DTEND;TZID=America/Kentucky/Louisville:20220608T200000
DTSTAMP:20260422T183726
CREATED:20220325T160245Z
LAST-MODIFIED:20220325T160246Z
UID:397-1654718400-1654718400@chamberwindslouisville.org
SUMMARY:Wind Band Institute
DESCRIPTION:
URL:https://chamberwindslouisville.org/event/wind-band-institute/
LOCATION:Margaret Comstock Concert Hall\, 105 W Brandeis Ave\, Louisville\, Kentucky\, 40292\, United States
END:VEVENT
BEGIN:VEVENT
DTSTART;TZID=America/Kentucky/Louisville:20220220T150000
DTEND;TZID=America/Kentucky/Louisville:20220220T170000
DTSTAMP:20260422T183726
CREATED:20211222T173102Z
LAST-MODIFIED:20220120T131011Z
UID:368-1645369200-1645376400@chamberwindslouisville.org
SUMMARY:February Concert
DESCRIPTION:This will be a joint concert with the University of Louisville Symphonic Band and Wind Symphony groups. \n\n\n\nHere are some important details if you wish to attend a School of Music Concert: \n\n\n\nProof of vaccination is required at the door for each concert.Seating will be limited in all concert halls with prearranged spacing to allow for physical distancing.All who enter the Music building\, for any reason\, must wear a mask that covers the nose and mouth completely at all times.Regardless of one’s vaccination status\, we expect that anyone feeling unwell on the day of an event will refrain from attending so as not to risk their own health or the health of others.\n\n\n\nTo attend\, we ask that you please register at the EventBrite link below.
URL:https://chamberwindslouisville.org/event/february-concert/
LOCATION:Margaret Comstock Concert Hall\, 105 W Brandeis Ave\, Louisville\, Kentucky\, 40292\, United States
END:VEVENT
BEGIN:VEVENT
DTSTART;TZID=America/Kentucky/Louisville:20211205T193000
DTEND;TZID=America/Kentucky/Louisville:20211205T210000
DTSTAMP:20260422T183726
CREATED:20211111T155402Z
LAST-MODIFIED:20211111T162143Z
UID:279-1638732600-1638738000@chamberwindslouisville.org
SUMMARY:December Concert
DESCRIPTION:Here are some important details if you wish to attend a School of Music Concert: \n\n\n\nAll concerts will have a required online sign-up process on Eventbrite.com (click “Register Here” below)Proof of vaccination is required at the door for each concert.Seating will be limited in all concert halls with prearranged spacing to allow for physical distancing.All who enter the Music building\, for any reason\, must wear a mask that covers the nose and mouth completely at all times.Regardless of one’s vaccination status\, we expect that anyone feeling unwell on the day of an event will refrain from attending so as not to risk their own health or the health of others.
URL:https://chamberwindslouisville.org/event/december-concert/
LOCATION:Margaret Comstock Concert Hall\, 105 W Brandeis Ave\, Louisville\, Kentucky\, 40292\, United States
END:VEVENT
END:VCALENDAR