BEGIN:VCALENDAR
VERSION:2.0
PRODID:-//Chamber Winds Louisville - ECPv6.15.20//NONSGML v1.0//EN
CALSCALE:GREGORIAN
METHOD:PUBLISH
X-ORIGINAL-URL:https://chamberwindslouisville.org
X-WR-CALDESC:Events for Chamber Winds Louisville
REFRESH-INTERVAL;VALUE=DURATION:PT1H
X-Robots-Tag:noindex
X-PUBLISHED-TTL:PT1H
BEGIN:VTIMEZONE
TZID:America/Kentucky/Louisville
BEGIN:DAYLIGHT
TZOFFSETFROM:-0500
TZOFFSETTO:-0400
TZNAME:EDT
DTSTART:20240310T070000
END:DAYLIGHT
BEGIN:STANDARD
TZOFFSETFROM:-0400
TZOFFSETTO:-0500
TZNAME:EST
DTSTART:20241103T060000
END:STANDARD
BEGIN:DAYLIGHT
TZOFFSETFROM:-0500
TZOFFSETTO:-0400
TZNAME:EDT
DTSTART:20250309T070000
END:DAYLIGHT
BEGIN:STANDARD
TZOFFSETFROM:-0400
TZOFFSETTO:-0500
TZNAME:EST
DTSTART:20251102T060000
END:STANDARD
BEGIN:DAYLIGHT
TZOFFSETFROM:-0500
TZOFFSETTO:-0400
TZNAME:EDT
DTSTART:20260308T070000
END:DAYLIGHT
BEGIN:STANDARD
TZOFFSETFROM:-0400
TZOFFSETTO:-0500
TZNAME:EST
DTSTART:20261101T060000
END:STANDARD
BEGIN:DAYLIGHT
TZOFFSETFROM:-0500
TZOFFSETTO:-0400
TZNAME:EDT
DTSTART:20270314T070000
END:DAYLIGHT
BEGIN:STANDARD
TZOFFSETFROM:-0400
TZOFFSETTO:-0500
TZNAME:EST
DTSTART:20271107T060000
END:STANDARD
END:VTIMEZONE
BEGIN:VEVENT
DTSTART;TZID=America/Kentucky/Louisville:20250925T193000
DTEND;TZID=America/Kentucky/Louisville:20250925T210000
DTSTAMP:20260423T143038
CREATED:20250826T141029Z
LAST-MODIFIED:20250826T151152Z
UID:6303-1758828600-1758834000@chamberwindslouisville.org
SUMMARY:Concert with UofL Wind Symphony
DESCRIPTION:The Louisville Concert Band and Chamber Winds Louisville presents a September program filled with color and character. Philip Sparke’s Sunrise at Angel’s Gate captures the spacious grandeur of a desert dawn\, while Percy Grainger’s spirited Molly on the Shore and Warren Barker’s texturally rich setting of Danny Boy bring folk traditions to life. The concert also features a special performance by our clarinet choir\, presenting Ralph Vaughan Williams’ beloved Rhosymedre as we celebrate the memory of one of our revered founding members\, clarinetist and conductor Brad Rogers. \n\n\n\nThe exuberant and brilliant Thunder and Lightning Polka by Johann Strauss II will provide a lively and joyous finale. If you like the crash cymbal solo at the end we may even add an encore!
URL:https://chamberwindslouisville.org/event/concert-with-uofl-wind-symphony/
LOCATION:Margaret Comstock Concert Hall\, 105 W Brandeis Ave\, Louisville\, Kentucky\, 40292\, United States
END:VEVENT
BEGIN:VEVENT
DTSTART;TZID=America/Kentucky/Louisville:20260301T150000
DTEND;TZID=America/Kentucky/Louisville:20260301T170000
DTSTAMP:20260423T143038
CREATED:20260219T161857Z
LAST-MODIFIED:20260224T132031Z
UID:6309-1772377200-1772384400@chamberwindslouisville.org
SUMMARY:A Toast to Brad: Memories and Celebrations
DESCRIPTION:Please join us for a concert celebrating the life of Brad Rogers\, featuring performances by the University Symphonic Band\, University Wind Symphony\, Chamber Winds Louisville and the Louisville Concert Band\, Combined Trumpet Ensemble (Chamber Winds Louisville\, UofL Wind Symphony and Kentucky Musicians Abroad Staff)\, and the KYMA Europe Staff Combo. \n\n\n\nThe Louisville Concert Band will perform a dynamic selection of works\, beginning with the stately Military Escort by Harold Bennett (Henry Fillmore’s pseudonym). They will follow with the lush Fantasia on a Gaelic Air and the energetic Cardinal Circle\, both by Frederick Speck\, showcasing the ensemble’s range and precision. Adding a special touch\, the trumpets from Chamber Winds Louisville\, the UofL Wind Symphony\, and the Kentucky Musicians Abroad trumpet staff will join for the heartfelt The Irish Blessing\, bringing a bright\, resonant tribute to the evening.
URL:https://chamberwindslouisville.org/event/a-toast-to-brad-memories-and-celebrations/
LOCATION:Margaret Comstock Concert Hall\, 105 W Brandeis Ave\, Louisville\, Kentucky\, 40292\, United States
ATTACH;FMTTYPE=image/jpeg:https://chamberwindslouisville.org/wp-content/uploads/2026/02/Brad-Rogers.jpg
END:VEVENT
BEGIN:VEVENT
DTSTART;TZID=America/Kentucky/Louisville:20260610T200000
DTEND;TZID=America/Kentucky/Louisville:20260610T210000
DTSTAMP:20260423T143038
CREATED:20260310T174644Z
LAST-MODIFIED:20260310T174645Z
UID:6316-1781121600-1781125200@chamberwindslouisville.org
SUMMARY:Wind Band Institute
DESCRIPTION:
URL:https://chamberwindslouisville.org/event/wind-band-institute-3/
LOCATION:Margaret Comstock Concert Hall\, 105 W Brandeis Ave\, Louisville\, Kentucky\, 40292\, United States
ATTACH;FMTTYPE=image/png:https://chamberwindslouisville.org/wp-content/uploads/2022/09/20220929_CWL_0002.png
END:VEVENT
END:VCALENDAR