BEGIN:VCALENDAR
VERSION:2.0
PRODID:-//Chamber Winds Louisville - ECPv6.15.20//NONSGML v1.0//EN
CALSCALE:GREGORIAN
METHOD:PUBLISH
X-WR-CALNAME:Chamber Winds Louisville
X-ORIGINAL-URL:https://chamberwindslouisville.org
X-WR-CALDESC:Events for Chamber Winds Louisville
REFRESH-INTERVAL;VALUE=DURATION:PT1H
X-Robots-Tag:noindex
X-PUBLISHED-TTL:PT1H
BEGIN:VTIMEZONE
TZID:America/Kentucky/Louisville
BEGIN:DAYLIGHT
TZOFFSETFROM:-0500
TZOFFSETTO:-0400
TZNAME:EDT
DTSTART:20200308T070000
END:DAYLIGHT
BEGIN:STANDARD
TZOFFSETFROM:-0400
TZOFFSETTO:-0500
TZNAME:EST
DTSTART:20201101T060000
END:STANDARD
BEGIN:DAYLIGHT
TZOFFSETFROM:-0500
TZOFFSETTO:-0400
TZNAME:EDT
DTSTART:20210314T070000
END:DAYLIGHT
BEGIN:STANDARD
TZOFFSETFROM:-0400
TZOFFSETTO:-0500
TZNAME:EST
DTSTART:20211107T060000
END:STANDARD
BEGIN:DAYLIGHT
TZOFFSETFROM:-0500
TZOFFSETTO:-0400
TZNAME:EDT
DTSTART:20220313T070000
END:DAYLIGHT
BEGIN:STANDARD
TZOFFSETFROM:-0400
TZOFFSETTO:-0500
TZNAME:EST
DTSTART:20221106T060000
END:STANDARD
BEGIN:DAYLIGHT
TZOFFSETFROM:-0500
TZOFFSETTO:-0400
TZNAME:EDT
DTSTART:20230312T070000
END:DAYLIGHT
BEGIN:STANDARD
TZOFFSETFROM:-0400
TZOFFSETTO:-0500
TZNAME:EST
DTSTART:20231105T060000
END:STANDARD
END:VTIMEZONE
BEGIN:VEVENT
DTSTART;TZID=America/Kentucky/Louisville:20220220T150000
DTEND;TZID=America/Kentucky/Louisville:20220220T170000
DTSTAMP:20260422T185008
CREATED:20211222T173102Z
LAST-MODIFIED:20220120T131011Z
UID:368-1645369200-1645376400@chamberwindslouisville.org
SUMMARY:February Concert
DESCRIPTION:This will be a joint concert with the University of Louisville Symphonic Band and Wind Symphony groups. \n\n\n\nHere are some important details if you wish to attend a School of Music Concert: \n\n\n\nProof of vaccination is required at the door for each concert.Seating will be limited in all concert halls with prearranged spacing to allow for physical distancing.All who enter the Music building\, for any reason\, must wear a mask that covers the nose and mouth completely at all times.Regardless of one’s vaccination status\, we expect that anyone feeling unwell on the day of an event will refrain from attending so as not to risk their own health or the health of others.\n\n\n\nTo attend\, we ask that you please register at the EventBrite link below.
URL:https://chamberwindslouisville.org/event/february-concert/
LOCATION:Margaret Comstock Concert Hall\, 105 W Brandeis Ave\, Louisville\, Kentucky\, 40292\, United States
END:VEVENT
BEGIN:VEVENT
DTSTART;TZID=America/Kentucky/Louisville:20211205T193000
DTEND;TZID=America/Kentucky/Louisville:20211205T210000
DTSTAMP:20260422T185008
CREATED:20211111T155402Z
LAST-MODIFIED:20211111T162143Z
UID:279-1638732600-1638738000@chamberwindslouisville.org
SUMMARY:December Concert
DESCRIPTION:Here are some important details if you wish to attend a School of Music Concert: \n\n\n\nAll concerts will have a required online sign-up process on Eventbrite.com (click “Register Here” below)Proof of vaccination is required at the door for each concert.Seating will be limited in all concert halls with prearranged spacing to allow for physical distancing.All who enter the Music building\, for any reason\, must wear a mask that covers the nose and mouth completely at all times.Regardless of one’s vaccination status\, we expect that anyone feeling unwell on the day of an event will refrain from attending so as not to risk their own health or the health of others.
URL:https://chamberwindslouisville.org/event/december-concert/
LOCATION:Margaret Comstock Concert Hall\, 105 W Brandeis Ave\, Louisville\, Kentucky\, 40292\, United States
END:VEVENT
END:VCALENDAR